BEGIN:VCALENDAR
VERSION:2.0
PRODID:-//https://www.surf.nl//NONSGML iCalcreator 2.41.92//
CALSCALE:GREGORIAN
METHOD:PUBLISH
UID:32633866-3262-4962-b462-613437363034
X-WR-RELCALID:d03408b8-39a3-4939-aa3e-c4e59b5a0c95
X-WR-TIMEZONE:Europe/Amsterdam
X-WR-CALNAME:Surf
BEGIN:VTIMEZONE
TZID:Europe/Amsterdam
TZUNTIL:20280326T010000Z
BEGIN:STANDARD
TZNAME:CET
DTSTART:20251026T030000
TZOFFSETFROM:+0200
TZOFFSETTO:+0100
RDATE:20261025T030000
RDATE:20271031T030000
END:STANDARD
BEGIN:DAYLIGHT
TZNAME:CEST
DTSTART:20260329T020000
TZOFFSETFROM:+0100
TZOFFSETTO:+0200
RDATE:20270328T020000
END:DAYLIGHT
END:VTIMEZONE
BEGIN:VEVENT
UID:90d9a9e5-3452-4cf1-9d35-c9491777220e
DTSTAMP:20260421T125117Z
CLASS:PUBLIC
CREATED:20260421T081930Z
DESCRIPTION:How do we prepare together for multiple possible futures? In th
 is session\, we explore how we can collaboratively develop and apply futur
 e scenarios.
DTSTART;TZID=Europe/Amsterdam:20260626T100000
DTEND;TZID=Europe/Amsterdam:20260626T160000
LAST-MODIFIED:20260421T084735Z
LOCATION:SURF Utrecht\, room 2.03
SUMMARY:SURF Future Scenarios
TRANSP:OPAQUE
END:VEVENT
END:VCALENDAR
