BEGIN:VCALENDAR
VERSION:2.0
PRODID:-//https://www.surf.nl//NONSGML iCalcreator 2.41.92//
CALSCALE:GREGORIAN
METHOD:PUBLISH
UID:63333037-6539-4831-b232-623763356361
X-WR-RELCALID:d03408b8-39a3-4939-aa3e-c4e59b5a0c95
X-WR-TIMEZONE:Europe/Amsterdam
X-WR-CALNAME:Surf
BEGIN:VTIMEZONE
TZID:Europe/Amsterdam
TZUNTIL:20280326T010000Z
BEGIN:STANDARD
TZNAME:CET
DTSTART:20251026T030000
TZOFFSETFROM:+0200
TZOFFSETTO:+0100
RDATE:20261025T030000
RDATE:20271031T030000
END:STANDARD
BEGIN:DAYLIGHT
TZNAME:CEST
DTSTART:20260329T020000
TZOFFSETFROM:+0100
TZOFFSETTO:+0200
RDATE:20270328T020000
END:DAYLIGHT
END:VTIMEZONE
BEGIN:VEVENT
UID:b8f38a8c-8829-457b-a617-09c855cf1e26
DTSTAMP:20260422T142614Z
CLASS:PUBLIC
CREATED:20260422T071423Z
DESCRIPTION:Werk je in onderzoeksondersteuning? Dan is dit LCRDM-event voor
  jou. Werk samen aan een duurzaam datamanagement-ecosysteem en versterk de
  verbinding tussen datamanagement- en repositorycommunities.
DTSTART;TZID=Europe/Amsterdam:20260625T093000
DTEND;TZID=Europe/Amsterdam:20260625T173000
LAST-MODIFIED:20260422T073124Z
LOCATION:Koninklijke Bibliotheek\, Den Haag
SUMMARY:There is life after 10: Long term preservation of research data
TRANSP:OPAQUE
END:VEVENT
END:VCALENDAR
